BEGIN:VCALENDAR
VERSION:2.0
METHOD:PUBLISH
PRODID::-//Obvius//NONSGML ICal//DA
BEGIN:VEVENT
UID:4900218@dra.ku.dk
DESCRIPTION:DRA symposium\n\nhttps://dra.ku.dk/activities/2025/symposier-o
 g-lectures/20250508_advancing_stem_cell_therapies/
SUMMARY:Advancing Stem Cell Therapies: From Research to Reality
CATEGORIES:Symposium
LOCATION:Auditorium 4\, building 14\, PharmaSchool\, Universitetsparken 2\
 , 2100 Copenhagen Ø
ORGANIZER:Associate Professor Stine Rønholt and Researcher Lasse Saaby\, 
 Department of Pharmacy
DTSTART:20250508T103000Z
DTSTAMP:20250508T103000Z
DTEND:20250508T154500Z
END:VEVENT
END:VCALENDAR
